BEGIN:VCALENDAR
VERSION:2.0
PRODID:-//Eventin//Event Calendar//EN
CALSCALE:GREGORIAN
METHOD:PUBLISH
BEGIN:VEVENT
UID:9a016fa2ac696f902567ef140faaa1de@my.pratamaindomitra.co.id
SUMMARY:CORETAX INTENSIVE CLASS: SERI PPh 21  “Menguasai Coretax PPh 21 d
 engan Pendekatan Praktik dan Diskusi Studi Kasus”
DESCRIPTION:Implementasi sistem Coretax menuntut praktisi pajak untuk tidak
  hanya memahami regulasi\, tetapi juga mampu mengoperasikan sistem secara t
 epat dan efisien khususnya dalam pengelolaan PPh 21 yang memiliki kompleksi
 tas tinggi dalam praktiknya. Kesalahan kecil dalam input atau pemahaman dap
 at berdampak pada ketidaksesuaian pelaporan dan potensi risiko pemeriksaan.
 \nPelatihan ini dirancang secara intensif dan aplikatif\, dengan pendekatan
  praktik langsung serta pembahasan studi kasus nyata. Peserta akan dibimbin
 g step-by-step untuk memahami alur kerja Coretax PPh 21 secara menyeluruh\,
  mulai dari setup hingga pelaporan\, sehingga siap digunakan dalam aktivita
 s pekerjaan sehari-hari.\n\nTUJUAN PELATIHAN\nSetelah mengikuti pelatihan i
 ni\, peserta diharapkan mampu:\n\nMemahami konsep dan mekanisme PPh 21 dala
 m sistem Coretax\nMengoperasikan fitur Coretax terkait penghitungan dan pel
 aporan PPh 21\nMengidentifikasi dan meminimalkan kesalahan umum dalam prose
 s input dan pelaporan\nMenerapkan praktik terbaik (best practice) dalam pen
 gelolaan PPh 21\nMenyelesaikan studi kasus riil yang sering terjadi di peru
 sahaan.\n\n\nTARGET PESERTA\nPelatihan ini sangat tepat diikuti oleh:\n\nSt
 aff & Supervisor Pajak\nAccounting & Finance Officer\nHR / Payroll Officer\
 nTax Consultant & Praktisi Pajak\nWajib Pajak Badan yang mengelola PPh 21\n
 Siapa saja yang ingin menguasai Coretax secara praktis.\n\n\nPOKOK BAHASAN\
 nPelatihan ini membahas terkait dengan Pengenalan Coretax dan SPT PPh 21 Ka
 ryawan sampai dengan Studi Kasus yang dihadapi oleh Perusahaan dengan mater
 i pelatihan sebagai berikut:\nHari Pertama:\nSenin\, 6 Juli 2026 | 18.30-21
 .30 WIB Sistem Inti Administrasi Perpajakan/ SIAP (Core Tax Administration 
 System/ CTAS)\n\nPengenalan Coretax System\nFitur Coretax antara lain:\n\nL
 aman Login\, Role Akses\, Digital Certificate\,\nUpdate Data (Penggantian P
 IC\; Penambahan hak akses Pegawai\; Penambahan Kuasa)\nDeposit Pajak\n\n\nK
 onsep PPh Pasal 21\nDiskusi/tanya jawab\n\nHari ke-Dua:\nSelasa\, 7 Juli 20
 26 | 18.30-21.30 WIB Fitur Coretax PPh Pasal 21:\n\ne-Bupot PPh Pasal 21\nS
 PT Masa PPh Pasal 21\nSkema Upload XML\nEkualisasi PPh Pasal 21 vs biaya pa
 da SPT PPh Badan\nDiskusi/tanya jawab\n\nHari ke-Tiga:\nRabu\, 8 Juli 2026 
 | 18.30-21.30 WIB Praktik Perhitungan PPh Pasal 21\n\nPPh Pasal 21 dipotong
 \nPPh Pasal 21 ditunjang\nTarif Efektif Rata-rata (TER) Bulanan\nPPh Pasal 
 21 Masa Pajak Terakhir dengan Tarif Pasal 17\nDiskusi/tanya jawab\n\nHari k
 e-Empat:\nKamis\, 9 Juli 2026 | 18.30-21.30 WIB Praktik Coretax PPh Pasal 2
 1:\n\nInput manual e-Bupot PPh Pasal 21\nInput impor e-Bupot PPh Pasal 21 d
 engan skema upload XML\nMembuat SPT Masa PPh Pasal 21\nMelaporkan SPT Masa 
 PPh Pasal 21\nDiskusi/tanya jawab\n\n\nSenin-Kamis\, 6 - 9 Juli 2026 | Puku
 l 18.30-21.30 WIB Online: Zoom Meeting Kapasitas 100 orang\n\nUNTUK MENJADI
  PERHATIAN BERSAMA:\n"Peserta diharapkan membawa laptop untuk Latihan dan S
 tudy Kasus"\n\nINVESTASI\n\nHarga Online Rp 1.750.000\,-\nBiaya investasi t
 ersebut berlaku untuk 1 peserta\nDiscount 10% bagi perusahaan yang mengirim
 kan 3 orang peserta\nSudah termasuk soft copy makalah\, eSertifikat serta r
 ekaman zoom\nBiaya di atas belum termasuk PPN\, sudah termasuk PPh 23 (Moho
 n dapat melampirkan NPWP atau KTP)\nBiaya Pelatihan termasuk Obyek PPh 23 s
 esuai PMK 141/2015 (Mohon dipotong PPh 2% bagi WP Badan)\nTransfer biaya in
 vestasi Anda ke Rek. 166.2715900 BCA KCP Cimanggis a.n. PT Pratama Indomitr
 a Konsultan sebelum pelaksanaan pelatihan.\n\n\nKetentuan Pengunduran Diri:
 \n\nApabila pengunduran diri disampaikan kurang dari atau sama dengan 3 har
 i sebelum pelatihan\, maka dikenakan biaya administrasi sebesar 50% dari bi
 aya pelatihan.\nApabila pengunduran diri disampaikan setelah program dimula
 i\, maka tidak ada pengembalian atas biaya pelatihan yang sudah di bayarkan
  tetapi dapat mengajukan penundaan keikutsertaan pelatihan dengan topik yan
 g sama atau topik pelatihan lain dengan nominal investasi pelatihan yang sa
 ma.\nPeserta mengisi formulir permohonan pengembalian biaya pelatihan\, pen
 gembalian dilakukan melalui transfer dengan biaya pengiriman ditanggung pem
 ohon
LOCATION:Antam Office Park Tower B\, Jl. TB SimatupangNo.1 Lt. 8\, RT.10/RW
 .4\, Tj. Bar.\, Kec. Jagakarsa\, Kota Jakarta Selatan\, Daerah Khusus Ibuko
 ta Jakarta 12530
DTSTAMP:20260425T133804Z
DTSTART:20260706T113000Z
DTEND:20260709T143000Z
END:VEVENT
END:VCALENDAR
